BEGIN:VCALENDAR
VERSION:2.0
PRODID:-//Impossible Metals - ECPv6.15.20//NONSGML v1.0//EN
CALSCALE:GREGORIAN
METHOD:PUBLISH
X-WR-CALNAME:Impossible Metals
X-ORIGINAL-URL:https://impossiblemetals.com
X-WR-CALDESC:Events for Impossible Metals
REFRESH-INTERVAL;VALUE=DURATION:PT1H
X-Robots-Tag:noindex
X-PUBLISHED-TTL:PT1H
BEGIN:VTIMEZONE
TZID:Asia/Riyadh
BEGIN:STANDARD
TZOFFSETFROM:+0300
TZOFFSETTO:+0300
TZNAME:+03
DTSTART:20250101T000000
END:STANDARD
END:VTIMEZONE
BEGIN:VEVENT
DTSTART;VALUE=DATE:20260113
DTEND;VALUE=DATE:20260116
DTSTAMP:20260421T113715
CREATED:20251219T210308Z
LAST-MODIFIED:20251219T211044Z
UID:10000044-1768262400-1768521599@impossiblemetals.com
SUMMARY:Future Minerals Forum 2026
DESCRIPTION:Impossible Metals CEO & Co-Founder Oliver Gunasekara will be speaking at the Future Minerals Forum 2026 on Tuesday\, 13 January 2026\, 14:00 – 14:30\, on the topic “Innovative exploration practices to develop deep sea mining resources.”
URL:https://impossiblemetals.com/event/future-minerals-forum-2026/
LOCATION:King Abdulaziz International Conference Center\, Al Hada\, Riyadh 12912\, Saudi Arabia
END:VEVENT
END:VCALENDAR