BEGIN:VCALENDAR
VERSION:2.0
PRODID:-//Impossible Metals - ECPv6.15.20//NONSGML v1.0//EN
CALSCALE:GREGORIAN
METHOD:PUBLISH
X-WR-CALNAME:Impossible Metals
X-ORIGINAL-URL:https://impossiblemetals.com
X-WR-CALDESC:Events for Impossible Metals
REFRESH-INTERVAL;VALUE=DURATION:PT1H
X-Robots-Tag:noindex
X-PUBLISHED-TTL:PT1H
BEGIN:VTIMEZONE
TZID:Asia/Riyadh
BEGIN:STANDARD
TZOFFSETFROM:+0300
TZOFFSETTO:+0300
TZNAME:+03
DTSTART:20250101T000000
END:STANDARD
END:VTIMEZONE
BEGIN:VTIMEZONE
TZID:America/Los_Angeles
BEGIN:DAYLIGHT
TZOFFSETFROM:-0800
TZOFFSETTO:-0700
TZNAME:PDT
DTSTART:20220313T100000
END:DAYLIGHT
BEGIN:STANDARD
TZOFFSETFROM:-0700
TZOFFSETTO:-0800
TZNAME:PST
DTSTART:20221106T090000
END:STANDARD
BEGIN:DAYLIGHT
TZOFFSETFROM:-0800
TZOFFSETTO:-0700
TZNAME:PDT
DTSTART:20230312T100000
END:DAYLIGHT
BEGIN:STANDARD
TZOFFSETFROM:-0700
TZOFFSETTO:-0800
TZNAME:PST
DTSTART:20231105T090000
END:STANDARD
BEGIN:DAYLIGHT
TZOFFSETFROM:-0800
TZOFFSETTO:-0700
TZNAME:PDT
DTSTART:20240310T100000
END:DAYLIGHT
BEGIN:STANDARD
TZOFFSETFROM:-0700
TZOFFSETTO:-0800
TZNAME:PST
DTSTART:20241103T090000
END:STANDARD
BEGIN:DAYLIGHT
TZOFFSETFROM:-0800
TZOFFSETTO:-0700
TZNAME:PDT
DTSTART:20250309T100000
END:DAYLIGHT
BEGIN:STANDARD
TZOFFSETFROM:-0700
TZOFFSETTO:-0800
TZNAME:PST
DTSTART:20251102T090000
END:STANDARD
BEGIN:DAYLIGHT
TZOFFSETFROM:-0800
TZOFFSETTO:-0700
TZNAME:PDT
DTSTART:20260308T100000
END:DAYLIGHT
BEGIN:STANDARD
TZOFFSETFROM:-0700
TZOFFSETTO:-0800
TZNAME:PST
DTSTART:20261101T090000
END:STANDARD
END:VTIMEZONE
BEGIN:VTIMEZONE
TZID:America/New_York
BEGIN:DAYLIGHT
TZOFFSETFROM:-0500
TZOFFSETTO:-0400
TZNAME:EDT
DTSTART:20230312T070000
END:DAYLIGHT
BEGIN:STANDARD
TZOFFSETFROM:-0400
TZOFFSETTO:-0500
TZNAME:EST
DTSTART:20231105T060000
END:STANDARD
BEGIN:DAYLIGHT
TZOFFSETFROM:-0500
TZOFFSETTO:-0400
TZNAME:EDT
DTSTART:20240310T070000
END:DAYLIGHT
BEGIN:STANDARD
TZOFFSETFROM:-0400
TZOFFSETTO:-0500
TZNAME:EST
DTSTART:20241103T060000
END:STANDARD
BEGIN:DAYLIGHT
TZOFFSETFROM:-0500
TZOFFSETTO:-0400
TZNAME:EDT
DTSTART:20250309T070000
END:DAYLIGHT
BEGIN:STANDARD
TZOFFSETFROM:-0400
TZOFFSETTO:-0500
TZNAME:EST
DTSTART:20251102T060000
END:STANDARD
BEGIN:DAYLIGHT
TZOFFSETFROM:-0500
TZOFFSETTO:-0400
TZNAME:EDT
DTSTART:20260308T070000
END:DAYLIGHT
BEGIN:STANDARD
TZOFFSETFROM:-0400
TZOFFSETTO:-0500
TZNAME:EST
DTSTART:20261101T060000
END:STANDARD
END:VTIMEZONE
BEGIN:VEVENT
DTSTART;VALUE=DATE:20260113
DTEND;VALUE=DATE:20260116
DTSTAMP:20260421T175754
CREATED:20251219T210308Z
LAST-MODIFIED:20251219T211044Z
UID:10000044-1768262400-1768521599@impossiblemetals.com
SUMMARY:Future Minerals Forum 2026
DESCRIPTION:Impossible Metals CEO & Co-Founder Oliver Gunasekara will be speaking at the Future Minerals Forum 2026 on Tuesday\, 13 January 2026\, 14:00 – 14:30\, on the topic “Innovative exploration practices to develop deep sea mining resources.”
URL:https://impossiblemetals.com/event/future-minerals-forum-2026/
LOCATION:King Abdulaziz International Conference Center\, Al Hada\, Riyadh 12912\, Saudi Arabia
END:VEVENT
BEGIN:VEVENT
DTSTART;VALUE=DATE:20251208
DTEND;VALUE=DATE:20251212
DTSTAMP:20260421T175754
CREATED:20250915T210720Z
LAST-MODIFIED:20250915T211756Z
UID:10000041-1765152000-1765497599@impossiblemetals.com
SUMMARY:ALTA Americas
DESCRIPTION:Impossible Metals CEO & Co-Founder Oliver Gunasekara will present “Solving Strategic Vulnerability of Battery Metals” at 5 pm on Wednesday\, December 10\, 2025.
URL:https://impossiblemetals.com/event/alta-americas/
LOCATION:Caesars Palace\, 3570 S Las Vegas Blvd\, Las Vegas\, NV\, 89109\, United States
ORGANIZER;CN="Cambridge EnerTech":MAILTO:cii@cambridgeinnovationinstitute.com
END:VEVENT
BEGIN:VEVENT
DTSTART;VALUE=DATE:20251202
DTEND;VALUE=DATE:20251205
DTSTAMP:20260421T175754
CREATED:20250915T223103Z
LAST-MODIFIED:20250915T223103Z
UID:10000043-1764633600-1764892799@impossiblemetals.com
SUMMARY:Resourcing Tomorrow
DESCRIPTION:Impossible Metals CEO & Co-Founder Oliver Gunasekara will be presenting\, “Geopolitical Dimensions of Deep Sea Mining” on Thursday\, December 4\, at 13:00.
URL:https://impossiblemetals.com/event/resourcing-tomorrow/
LOCATION:Business Design Centre\, 52 Upper Street\, Islington\, London\, n1 0QH\, United Kingdom
ORGANIZER;CN="Resourcing Tomorrow":MAILTO:connect@resourcingtomorrow.com
END:VEVENT
BEGIN:VEVENT
DTSTART;VALUE=DATE:20251109
DTEND;VALUE=DATE:20251115
DTSTAMP:20260421T175754
CREATED:20250815T200321Z
LAST-MODIFIED:20250815T200321Z
UID:10000039-1762646400-1763164799@impossiblemetals.com
SUMMARY:Underwater Minerals Conference (UMC) 2025
DESCRIPTION:Impossible Metals CEO and Co-Founder Oliver Gunasekara will be presenting\, “Results from testing Eureka II Selective Harvesting AUV” during Technical Session VI on Wednesday\, September 19\, 2025.
URL:https://impossiblemetals.com/event/underwater-minerals-conference-umc-2025/
LOCATION:Sirata Beach Resort\, 5300 Gulf Blvd\, St. Pete Beach\, FL\, 33706\, United States
END:VEVENT
BEGIN:VEVENT
DTSTART;VALUE=DATE:20251016
DTEND;VALUE=DATE:20251017
DTSTAMP:20260421T175754
CREATED:20250915T221125Z
LAST-MODIFIED:20250915T221125Z
UID:10000042-1760572800-1760659199@impossiblemetals.com
SUMMARY:The Critical Minerals Forum NYC 2025
DESCRIPTION:Impossible Metals CEO & Co-Founder Oliver Gunasekara will participate on Panel 3 | The Role of Innovation in the New World Order\, 2:30 pm. – 3:15 pm.
URL:https://impossiblemetals.com/event/the-critical-minerals-forum-nyc-2025/
LOCATION:Clifford Chance NY\, Two Manhattan West\, 375 9th Ave\, New York\, NY\, 10001\, United States
ORGANIZER;CN="The Legal Innovation Forum":MAILTO:andrew@adbinsights.com
END:VEVENT
BEGIN:VEVENT
DTSTART;VALUE=DATE:20250902
DTEND;VALUE=DATE:20250904
DTSTAMP:20260421T175754
CREATED:20250815T202223Z
LAST-MODIFIED:20250815T202223Z
UID:10000040-1756771200-1756943999@impossiblemetals.com
SUMMARY:World Resources Forum '25
DESCRIPTION:Impossible Metals CEO and Co-Founder Oliver Gunasekara will present\, “Advancing Responsible Deep-Sea Mining: Impossible Metals’ Technology to Protect Marine Ecosystems”\, on Tuesday\, September 2\, at the 1C Deep-Sea Mining: Legal\, Environmental and Social Perspectives Scientific Session.
URL:https://impossiblemetals.com/event/world-resources-forum-25/
LOCATION:International Conference Center Geneva
ORGANIZER;CN="World Resources Forum":MAILTO:wrf25@wrforum.org
END:VEVENT
BEGIN:VEVENT
DTSTART;VALUE=DATE:20250603
DTEND;VALUE=DATE:20250605
DTSTAMP:20260421T175754
CREATED:20250509T210638Z
LAST-MODIFIED:20250509T210638Z
UID:10000038-1748908800-1749081599@impossiblemetals.com
SUMMARY:Benchmark Giga USA 2025
DESCRIPTION:On Day 1\, 1 pm to 3:30 pm Impossible Metals CEO and Oliver Gunasekara will participate on the panel\, “Deep Sea Mining: Unlocking New Frontiers for Critical Minerals” addressing environmental\, regulatory\, and technological challenges to responsible seabed extraction and sharing industry perspectives on project readiness\, innovation\, and the path to commercial viability with Craig Shesky\, Chief Financial Officer\, The Metals Company and David Anonychuk\, Global VP Metallurgy & Consulting\, SGS.
URL:https://impossiblemetals.com/event/benchmark-giga-usa-2025/
LOCATION:Ronald Reagan Building and International Trade Center\, Washington DC\, 1300 Pennsylvania Avenue NW\, Washington\, DC\, Washington\, DC\, 20004
ATTACH;FMTTYPE=image/png:https://impossiblemetals.com/wp-content/uploads/2025/05/GIga-USA-2025-1-1.png
END:VEVENT
BEGIN:VEVENT
DTSTART;VALUE=DATE:20250505
DTEND;VALUE=DATE:20250509
DTSTAMP:20260421T175754
CREATED:20250306T221720Z
LAST-MODIFIED:20250306T221720Z
UID:10000036-1746403200-1746748799@impossiblemetals.com
SUMMARY:Offshore Technology Conference
DESCRIPTION:Oliver Gunasekara\, Impossible Metals CEO and Co-founder will present\, “How Impossible Metals’ Next-Gen Technology Will Drive Sustainable and Responsible Deep-Sea Critical Minerals Collection\,” on Tuesday\, May 6\, 1400 – 1630\, during the Marine Mining – New Technologies and Programs Making it Happen technical session. \nHere is more information about the Offshore Technology Conference\, which will be held from May 5 to 8\, 2025\, in Houston\, Texas\, USA. \n  \n 
URL:https://impossiblemetals.com/event/offshore-technology-conference/
LOCATION:NRG Park\, 8600 Kirby Drive\, Houston\, TX\, 77054\, United States
ORGANIZER;CN="Offshore Technology Conference":MAILTO:meetingsotc@otcnet.org 
END:VEVENT
BEGIN:VEVENT
DTSTART;VALUE=DATE:20250502
DTEND;VALUE=DATE:20250503
DTSTAMP:20260421T175754
CREATED:20250417T024009Z
LAST-MODIFIED:20250417T024009Z
UID:10000037-1746144000-1746230399@impossiblemetals.com
SUMMARY:Robotics and AI for Global Impact
DESCRIPTION:Impossible Metals CEO and Co-Founder Oliver Gunasekara will present a keynote\, “Impossible Metals: Mining the Future Without Destroying It” May 2\, 2025\, 10:55 AM – 11:25 AM.
URL:https://impossiblemetals.com/event/robotics-and-ai-for-global-impact/
LOCATION:Bakar BioEnginuity Hub & Bakar Labs\, 2625 Durant Ave\, Berkeley\, CA\, 94720\, United States
ATTACH;FMTTYPE=image/jpeg:https://impossiblemetals.com/wp-content/uploads/2025/04/Robotics-AI.jpg
ORGANIZER;CN="Robotics and AI for Global Impact%2C UC Berkeley":MAILTO:munwala@berkeley.edu
END:VEVENT
BEGIN:VEVENT
DTSTART;VALUE=DATE:20250114
DTEND;VALUE=DATE:20250117
DTSTAMP:20260421T175754
CREATED:20250108T004936Z
LAST-MODIFIED:20250108T004936Z
UID:10000035-1736812800-1737071999@impossiblemetals.com
SUMMARY:Future Minerals Forum
DESCRIPTION:Impossible Metals CEO and Co-Founder Oliver Gunasekara is attending the Future Minerals Forum.
URL:https://impossiblemetals.com/event/future-minerals-forum/
LOCATION:TX
ATTACH;FMTTYPE=image/png:https://impossiblemetals.com/wp-content/uploads/2025/01/future-minerals-forum-2.png
END:VEVENT
BEGIN:VEVENT
DTSTART;VALUE=DATE:20241210
DTEND;VALUE=DATE:20241212
DTSTAMP:20260421T175754
CREATED:20241002T200209Z
LAST-MODIFIED:20241129T213215Z
UID:10000031-1733788800-1733961599@impossiblemetals.com
SUMMARY:Battery\, Mineral & Mines Conference
DESCRIPTION:The Battery Minerals Mining component of the conference will occur on December 10 and 11\, 2024\, with a theme of “Exploring the Commercialization & Processing of Critical Battery Minerals.) \nImpossible Metals CEO and Co-Founder Oliver Gunasekara will present “Sustainable Deep-Sea Harvesting for Critical Battery Minerals Leveraging Battery-Powered Robots” during the “Nickel\, Cobalt\, Copper — Mining and Processing” session at 4:20 pm on Tuesday\, December 10\, 2024. \nOliver will join a panel discussion and session wrap-up at 5:40 pm. \nThe agenda is available.
URL:https://impossiblemetals.com/event/battery-mineral-mines-conference/
LOCATION:Mandalay Bay Resort & Casino\, 3950 S Las Vegas Blvd\, Las Vegas\, NV\, 89119\, United States
ATTACH;FMTTYPE=image/png:https://impossiblemetals.com/wp-content/uploads/2024/10/Battery-Minerals-and-Mines-conference.png
ORGANIZER;CN="Cambridge EnerTech":MAILTO:cii@cambridgeinnovationinstitute.com
END:VEVENT
BEGIN:VEVENT
DTSTART;TZID=America/New_York:20241105T073000
DTEND;TZID=America/New_York:20241105T130000
DTSTAMP:20260421T175754
CREATED:20241021T224415Z
LAST-MODIFIED:20241021T224415Z
UID:10000032-1730791800-1730811600@impossiblemetals.com
SUMMARY:2024 Simcoe County Manufacturer's Forum: Becoming an Employer of Choice
DESCRIPTION:Impossible Metals Sustainability Manager Becky Oehler will participate in the “Green Manufacturing & Clean Technology: A Panel Discussion” from 9:25 am to 10:00 am on Monday\, November 5\, 2024. \nAgenda and registration \n\nBecky Oehler is a geologist turned environmental professional with experience in mineral exploration\, environmental assessments\, regulatory compliance\, and stakeholder engagement. She is currently the Sustainability Manager at Impossible Metals\, a start-up that aims to enable the responsible production of critical minerals from the seafloor by developing novel robotics solutions.
URL:https://impossiblemetals.com/event/2024-simcoe-county-manufacturers-forum-becoming-an-employer-of-choice/
LOCATION:Nottawasaga Inn Resort & Conference Centre\, 6015 ON-89\, Alliston\, Ontario\, L9R 1A4\, Canada
ORGANIZER;CN="County of Simcoe Economic Development":MAILTO:edo@simcoe.ca
END:VEVENT
BEGIN:VEVENT
DTSTART;VALUE=DATE:20241001
DTEND;VALUE=DATE:20241003
DTSTAMP:20260421T175754
CREATED:20240531T204328Z
LAST-MODIFIED:20240820T232114Z
UID:10000029-1727740800-1727913599@impossiblemetals.com
SUMMARY:Energy Disruptors: UNITE 2024 Summit
DESCRIPTION:Impossible Metals CEO and Co-Founder Oliver Gunasekara will speak at the UNITE Summit\, the world’s most collaborative energy event. It is designed to bring the entire energy value chain together under one roof for two full days. Named Canada’s Best Conference\, the participatory and fully immersive summit is designed to challenge assumptions\, facilitate connections with unlike minds\, and empower delegates to lead with creativity and courage. \n\nThis year’s summit will be held on October 1 — 2 at the BMO Centre in Calgary\, Alberta. It is estimated to attract 3000+ attendees and 150+ world-class speakers\, including groundbreaking global leaders Former Prime Minister the Rt. Hon. Dame Jacinda Ardern and Former Prime Minister Sanna Marin.\n\n\nLearn more: https://www.energydisruptors.com/
URL:https://impossiblemetals.com/event/energy-disruptors-unite-2024-summit/
LOCATION:The BMO Centre\, 20 Roundup Way SE\, Calgary\, Alberta\, AB T2G 2W1\, Canada
ATTACH;FMTTYPE=image/png:https://impossiblemetals.com/wp-content/uploads/2024/05/Unite-Energy-Disruptors-logo.png
END:VEVENT
BEGIN:VEVENT
DTSTART;VALUE=DATE:20240915
DTEND;VALUE=DATE:20240922
DTSTAMP:20260421T175754
CREATED:20241129T211323Z
LAST-MODIFIED:20241129T211323Z
UID:10000033-1726358400-1726963199@impossiblemetals.com
SUMMARY:Underwater Minerals Conference 2024
DESCRIPTION:Our CEO and Co-Founder\, Oliver Gunasekara\, will present “Impossible Metals Roadmap to Full-Scale Testing with Eureka III” in Technical Session VI on Wednesday\, September 19\, 2024.
URL:https://impossiblemetals.com/event/underwater-minerals-conference-2024/
LOCATION:Cook Islands National Auditorium\, Rarotonga\, Cook Islands
ATTACH;FMTTYPE=image/png:https://impossiblemetals.com/wp-content/uploads/2024/11/UMC-2024-resized.png
ORGANIZER;CN="%E2%80%8B  International Marine Minerals Society":MAILTO:lazevedo@immsoc.org
END:VEVENT
BEGIN:VEVENT
DTSTART;VALUE=DATE:20240611
DTEND;VALUE=DATE:20240613
DTSTAMP:20260421T175754
CREATED:20240117T221714Z
LAST-MODIFIED:20240117T231840Z
UID:10000027-1718064000-1718236799@impossiblemetals.com
SUMMARY:Benchmark Minerals GIGA USA 2024
DESCRIPTION:Impossible Metals CEO and Co-Founder Oliver Gunasekara will be attending this event\, June 11 – 12\, 2024. \nLearn more: https://benchmarkevents.benchmarkminerals.com/gigausa24
URL:https://impossiblemetals.com/event/benchmark-minerals-giga-usa-2024/
LOCATION:JW Marriott Washington\, DC\, JW Marriott Washington\, DC 1331 Pennsylvania Avenue NW\, Washington DC\, 20004\, United States
ATTACH;FMTTYPE=image/png:https://impossiblemetals.com/wp-content/uploads/2024/01/GIGA-USA.png
END:VEVENT
BEGIN:VEVENT
DTSTART;VALUE=DATE:20240417
DTEND;VALUE=DATE:20240419
DTSTAMP:20260421T175754
CREATED:20240409T002401Z
LAST-MODIFIED:20240412T185201Z
UID:10000028-1713312000-1713484799@impossiblemetals.com
SUMMARY:DiscoveryX
DESCRIPTION:Impossible Metals CTO\, COO\, and Cofounder Jason Gillham will present “Mining: The Next Frontier“ at this event on Wednesday\, April 17\, 2024\, 4:15 PM – 5:00 PM EDT\, in the Next Theatre.\n\n\nVisit our booth in the exhibitor hall.\n\n\n\nLearn more.
URL:https://impossiblemetals.com/event/discoveryx/
LOCATION:Enercare Centre\, 00 Princes’ Blvd\, Exhibition Place\, Toronto\, Ontario\, M6K 3C3\, Canada
ATTACH;FMTTYPE=image/png:https://impossiblemetals.com/wp-content/uploads/2024/04/Discovery-X.png
ORGANIZER;CN="Ontario Centre of Innovation (OCI)":MAILTO:discoveryx@oc-innovation.ca
END:VEVENT
BEGIN:VEVENT
DTSTART;VALUE=DATE:20240417
DTEND;VALUE=DATE:20240419
DTSTAMP:20260421T175754
CREATED:20240116T011401Z
LAST-MODIFIED:20240329T225147Z
UID:10000025-1713312000-1713484799@impossiblemetals.com
SUMMARY:Deep Sea Mining Summit 2024
DESCRIPTION:Impossible Metals CEO and Co-Founder Oliver Gunasekara will be presenting at this event on Wednesday\, April 17. \n11:30 – 11:55 SELECTIVE HARVESTING: REIMAGINING DEEP SEA MINING\n\n\n\n• Introducing novel selective harvesting technology to reimagine harvesting polymetallic nodules\n• Environmental benefits of selective harvesting\, including fauna avoidance and minimisation of sediment disturbance\n• Discussion on concept economics with comparison to other mineral harvesting technology providers\n• Technology readiness roadmap\, with results from Eureka 1 testing and the status of Eureka 2 testing\n\n\nLearn more: https://www.deepsea-mining-summit.com/
URL:https://impossiblemetals.com/event/deep-sea-mining-summit-2024/
LOCATION:Canary Wharf\, 22 Hertsmere Rd\,\, London E14 4ED\, United Kingdom
ATTACH;FMTTYPE=image/png:https://impossiblemetals.com/wp-content/uploads/2024/01/Deep-Sea-Mining-Summit-2024.png
END:VEVENT
BEGIN:VEVENT
DTSTART;TZID=America/Los_Angeles:20240310T143000
DTEND;TZID=America/Los_Angeles:20240310T153000
DTSTAMP:20260421T175754
CREATED:20240117T214352Z
LAST-MODIFIED:20240215T175715Z
UID:10000026-1710081000-1710084600@impossiblemetals.com
SUMMARY:South by Southwest 2024
DESCRIPTION:Impossible Metals CEO and Co-Founder Oliver Gunasekara will be presenting at this event on Sunday\, March 10\, 4:00 pm – 4:30 pm CT\, Room 5ABC. \n\nMining for the Climate Crisis Without Destroying the Planet \nTo achieve net zero emission goals there is a growing need for large quantities of critical metals like nickel\, cobalt\, copper\, and manganese\, etc. for batteries and clean energy technologies. Projections indicate that the demand will rise 500% by 2050\, leading to concerns about their availability and sustainability. Reducing demand\, substitutions\, and recycling as well as comparing land\, sea\, and space mining sources will be considered as solutions to get the metals required for NetZero. Meeting this demand sustainably will be essential to address the global crisis of climate change. \n\nLearn more: https://schedule.sxsw.com/2024/events/PP141936
URL:https://impossiblemetals.com/event/south-by-southwest-2024/
LOCATION:Austin Convention Center\, 500 Cesar Chavez St.\, Austin\, TX\, 78701\, United States
ATTACH;FMTTYPE=image/png:https://impossiblemetals.com/wp-content/uploads/2024/01/sxsw-social-image.png
END:VEVENT
BEGIN:VEVENT
DTSTART;VALUE=DATE:20240219
DTEND;VALUE=DATE:20240223
DTSTAMP:20260421T175754
CREATED:20240104T213535Z
LAST-MODIFIED:20240116T005027Z
UID:10000024-1708300800-1708646399@impossiblemetals.com
SUMMARY:NAATBatt 2024: Building Capacity
DESCRIPTION:Impossible Metals CEO and Co-Founder Oliver Gunasekara will be presenting at this event. \nLearn more: https://nac.naatbatt.org/
URL:https://impossiblemetals.com/event/naatbatt-2024-building-capacity/
LOCATION:Omni La Costa Resort\, 2100 Costa Del Mar Rd\, Carlsbad\, CA\, 92009\, United States
ATTACH;FMTTYPE=image/png:https://impossiblemetals.com/wp-content/uploads/2023/12/NAAT-Battery-2024.png
ORGANIZER;CN="NAATBatt":MAILTO:info@naatbatt.org
END:VEVENT
BEGIN:VEVENT
DTSTART;VALUE=DATE:20231205
DTEND;VALUE=DATE:20231208
DTSTAMP:20260421T175754
CREATED:20230707T200220Z
LAST-MODIFIED:20230707T201018Z
UID:10000016-1701734400-1701993599@impossiblemetals.com
SUMMARY:Deep Sea Metals 2023
DESCRIPTION:Impossible Metals CEO and Co-Founder Oliver Gunasekara will be presenting at this event. \nLearn more: https://geopublishing.no/event/deepseaminerals/
URL:https://impossiblemetals.com/event/deep-sea-metals-2023/
LOCATION:Hotel Norge by Scandic\, Nedre Ole Bulls Plass 4\, Bergen\, 5012\, Norway
ATTACH;FMTTYPE=image/png:https://impossiblemetals.com/wp-content/uploads/2023/07/Deep-Sea-Minerals.png
END:VEVENT
BEGIN:VEVENT
DTSTART;VALUE=DATE:20231115
DTEND;VALUE=DATE:20231116
DTSTAMP:20260421T175754
CREATED:20231107T194122Z
LAST-MODIFIED:20231107T194602Z
UID:10000022-1700006400-1700092799@impossiblemetals.com
SUMMARY:Underwater Robotics Conference 2023
DESCRIPTION:Impossible Metals CTO and Cofounder Jason Gillham will speak at this event on October 15\, 2023\, about “A New Class of AUV for Underwater Sampling.” \nLearn more.
URL:https://impossiblemetals.com/event/underwater-robotics-conference-2023/
LOCATION:Global Underwater Hub\, 1 Abercrombie Court\, Arnhall Business Park\, Prospect Road\, Westhill\, Aberdeen\, Scotland\, AB32 6FE
ATTACH;FMTTYPE=image/jpeg:https://impossiblemetals.com/wp-content/uploads/2023/10/jason-Underwater-Robotics-Conf-2023.jpeg
END:VEVENT
BEGIN:VEVENT
DTSTART;VALUE=DATE:20231114
DTEND;VALUE=DATE:20231117
DTSTAMP:20260421T175754
CREATED:20231009T212246Z
LAST-MODIFIED:20231009T212246Z
UID:10000021-1699920000-1700179199@impossiblemetals.com
SUMMARY:Benchmark Week 2023
DESCRIPTION:Impossible Metals CEO and Co-Founder Oliver Gunasekara will be presenting at this event. \nLearn more: https://benchmarkevents.benchmarkminerals.com/benchmarkweek23
URL:https://impossiblemetals.com/event/benchmark-week-2023/
LOCATION:The Ritz-Carlton\, Marina del Rey\, Los Angeles\, 4375 Admiralty Way\, Marina Del Rey\, CA\, 90292\, United States
ATTACH;FMTTYPE=image/png:https://impossiblemetals.com/wp-content/uploads/2023/10/Benchmark-Week-2023.png
END:VEVENT
BEGIN:VEVENT
DTSTART;TZID=America/Los_Angeles:20231031T113000
DTEND;TZID=America/Los_Angeles:20231031T113000
DTSTAMP:20260421T175754
CREATED:20231022T225651Z
LAST-MODIFIED:20231022T225651Z
UID:10000023-1698751800-1698751800@impossiblemetals.com
SUMMARY:2023 Berkeley Energy & Resources Collaborative (BERC)  Resources Symposium on Mineral Management
DESCRIPTION:Impossible Metals CEO and Co-Founder Oliver Gunasekara will be participating on a panel\, “Innovations in Mineral Extraction” on October 31 at 11:30 am. \nLearn more: https://www.bercresourcesymposium.com/
URL:https://impossiblemetals.com/event/2023-berkeley-energy-resources-collaborative-berc-resources-symposium-on-mineral-management/
LOCATION:Chou Hall\, Spieker Forum\, UC Berkeley Campus Haas School of Business\, Cheit Lane\, Berkeley\, CA\, 94720\, United States
ATTACH;FMTTYPE=image/png:https://impossiblemetals.com/wp-content/uploads/2023/10/BERC-Oliver-Gunasekara.png
END:VEVENT
BEGIN:VEVENT
DTSTART;VALUE=DATE:20231001
DTEND;VALUE=DATE:20231007
DTSTAMP:20260421T175754
CREATED:20230707T201416Z
LAST-MODIFIED:20230925T192749Z
UID:10000017-1696118400-1696636799@impossiblemetals.com
SUMMARY:UMC 2023 Rotterdam
DESCRIPTION:Impossible Metals CEO and Co-Founder Oliver Gunasekara will be presenting “Impossible Metals roadmap update and a sneak peek at Eureka 2” on Wednesday\, October 4\, 2023 – TECHNICAL SESSION VI and VII at 14:10. \nImpossible Metals CTO/COO and Co-Founder Jason Gillham will be presenting “Eureka 1 Shallow water test results” on Tuesday\, October 3\, 2022 – TECHNICAL SESSIONS III\, IV and V at 16:45. \nLearn more: https://www.underwaterminerals.org/ \nTo set up a meeting with Impossible Metals at UMC\, go to https://impossiblemetals.com/umc/
URL:https://impossiblemetals.com/event/umc-2023-rotterdam/
LOCATION:TX
ATTACH;FMTTYPE=image/png:https://impossiblemetals.com/wp-content/uploads/2023/07/UMC-2023-Rotterdam-1.png
END:VEVENT
BEGIN:VEVENT
DTSTART;VALUE=DATE:20230927
DTEND;VALUE=DATE:20230929
DTSTAMP:20260421T175754
CREATED:20230811T234914Z
LAST-MODIFIED:20230811T234914Z
UID:10000020-1695772800-1695945599@impossiblemetals.com
SUMMARY:Greener Mining for Critical Minerals @ SOSV Climate Tech Summit
DESCRIPTION:Can we extract and process enough minerals for a timely energy transition? And can we do it while minimizing the impacts on glacial islands\, sea floors\, rainforests\, and other delicate ecosystems where these materials are found? \nAt SOSV Climate Tech Summit\, Impossible Metals cofounder Renee Grogan will join the Greener Mining for Critical Minerals panel of mining and mineral processing entrepreneurs and innovators who aim to expand mineral supply\, reduce the carbon and environmental footprint of mining\, and insulate the supply chain from geopolitics. \nLearn more. \nRegister now for this free online event.
URL:https://impossiblemetals.com/event/greener-mining-for-critical-minerals-sosv-climate-tech-summit/
LOCATION:TX
ATTACH;FMTTYPE=image/png:https://impossiblemetals.com/wp-content/uploads/2023/08/SOSV-summit.png
END:VEVENT
BEGIN:VEVENT
DTSTART;TZID=America/Los_Angeles:20230914T114500
DTEND;TZID=America/Los_Angeles:20230914T124500
DTSTAMP:20260421T175754
CREATED:20230626T235300Z
LAST-MODIFIED:20230712T201118Z
UID:10000013-1694691900-1694695500@impossiblemetals.com
SUMMARY:The Battery Show
DESCRIPTION:Impossible Metals CEO and Co-Founder Oliver Gunasekara will participate in a CEO panel discussing “Battery Demands: Solving the US Critical Battery Metals Supply Chain Leveraging Deep Seabed Minerals\,” Thursday\, September 14\, 1:45 PM – 2:45 PM CT. \n 
URL:https://impossiblemetals.com/event/the-battery-show-2/
LOCATION:Suburban Collection Showplace\, 46100 Grand River Avenue\, Novi\, MI\, 48374\, United States
ATTACH;FMTTYPE=image/jpeg:https://impossiblemetals.com/wp-content/uploads/2023/06/The-Battery-Show-706x200-px.jpg
END:VEVENT
BEGIN:VEVENT
DTSTART;VALUE=DATE:20230727
DTEND;VALUE=DATE:20230729
DTSTAMP:20260421T175754
CREATED:20230707T005212Z
LAST-MODIFIED:20230707T005212Z
UID:10000015-1690416000-1690588799@impossiblemetals.com
SUMMARY:2023 SP Innovation Summit
DESCRIPTION:Our CEO Oliver Gunasekara will be presenting “Solving the Looming Battery Metals Supply Crisis” in the Lightning Round Innovation Showcase on Day 2 at 8:40 am. \nLearn more here. \n 
URL:https://impossiblemetals.com/event/2023-sp-innovation-summit/
LOCATION:TX
ATTACH;FMTTYPE=image/png:https://impossiblemetals.com/wp-content/uploads/2023/06/SP-Innovation-Summit.png
END:VEVENT
BEGIN:VEVENT
DTSTART;TZID=America/Los_Angeles:20230705T130000
DTEND;TZID=America/Los_Angeles:20230705T140000
DTSTAMP:20260421T175754
CREATED:20230626T235849Z
LAST-MODIFIED:20230626T235849Z
UID:10000014-1688562000-1688565600@impossiblemetals.com
SUMMARY:MTS Webinar: Overview of Deep Sea Mining and Introduction to Impossible Metals
DESCRIPTION:Join this Marine Technology Society Committee webinar on July 5 at 4 pm ET with special guest Impossible Metals CEO Oliver Gunasekara. Oliver will join MTS Committee Chair Dr. Alex Barnard as they review the four types of deep sea mining\, introduce the major players\, and discuss the status of legal regulations. \n\nRegister today: https://hubs.ly/Q01Tkvfn0\n 
URL:https://impossiblemetals.com/event/mts-webinar-overview-of-deep-sea-mining-and-introduction-to-impossible-metals/
LOCATION:TX
ATTACH;FMTTYPE=image/jpeg:https://impossiblemetals.com/wp-content/uploads/2023/06/MTS-committee-webinar.jpeg
END:VEVENT
BEGIN:VEVENT
DTSTART;TZID=America/Los_Angeles:20230503T101000
DTEND;TZID=America/Los_Angeles:20230503T104000
DTSTAMP:20260421T175754
CREATED:20230425T024140Z
LAST-MODIFIED:20230425T024140Z
UID:10000012-1683108600-1683110400@impossiblemetals.com
SUMMARY:Deep Sea Mining Summit 2023
DESCRIPTION:Impossible Metals CEO and Co-Founder Oliver Gunasekara will present “Update on Select Harvesting Autonomous Underwater Vehicle Technology.” Oliver will discuss the problems with current technologies for deep-sea mining present in the industry\, and share updates on technologies such as autonomous underwater robots and bio-extraction.
URL:https://impossiblemetals.com/event/deep-sea-mining-summit-2023/
LOCATION:Canary Wharf\, 22 Hertsmere Rd\,\, London E14 4ED\, United Kingdom
ATTACH;FMTTYPE=image/png:https://impossiblemetals.com/wp-content/uploads/2023/04/DSM-Summit-2023-1.png
END:VEVENT
BEGIN:VEVENT
DTSTART;TZID=America/Los_Angeles:20230420T070000
DTEND;TZID=America/Los_Angeles:20230420T081500
DTSTAMP:20260421T175754
CREATED:20230329T231630Z
LAST-MODIFIED:20230329T231904Z
UID:10000011-1681974000-1681978500@impossiblemetals.com
SUMMARY:WCX Leadership Summit
DESCRIPTION:Impossible Metals CEO and Co-Founder Oliver Gunasekara will join this panel of experts at the WCX Leadership Summit\, discussing “Battery: Today\, 2030 and Beyond” in the Room Grand Riverview Ballroom on April 20\, 2023\, at 10:00 am EDT. \nAs we move towards a fully electrified future\, the battery becomes a critical element in the business model for success. What are the technology challenges being faced based on the current and future state platforms designs and how do we manage consumer acceptance\, sustainability\, and supply chain shortages for long-term success? Come hear battery and mineral executives discuss these critical issues and ask your questions in this first-of-a-kind roundtable.
URL:https://impossiblemetals.com/event/wcx-leadership-summit/
LOCATION:Huntington Place\, 1 Washington Boulevard\, Detroit\, MI\, 48226\, United States
ATTACH;FMTTYPE=image/jpeg:https://impossiblemetals.com/wp-content/uploads/2023/03/social_media_1080x1080_p22944570_wcx_23_look_networking_fe.jpeg
ORGANIZER;CN="SAE International":MAILTO:customerservice@sae.org
END:VEVENT
END:VCALENDAR