BEGIN:VCALENDAR
VERSION:2.0
PRODID:-//Impossible Metals - ECPv6.15.20//NONSGML v1.0//EN
CALSCALE:GREGORIAN
METHOD:PUBLISH
X-WR-CALNAME:Impossible Metals
X-ORIGINAL-URL:https://impossiblemetals.com
X-WR-CALDESC:Events for Impossible Metals
REFRESH-INTERVAL;VALUE=DURATION:PT1H
X-Robots-Tag:noindex
X-PUBLISHED-TTL:PT1H
BEGIN:VTIMEZONE
TZID:America/Los_Angeles
BEGIN:DAYLIGHT
TZOFFSETFROM:-0800
TZOFFSETTO:-0700
TZNAME:PDT
DTSTART:20210314T100000
END:DAYLIGHT
BEGIN:STANDARD
TZOFFSETFROM:-0700
TZOFFSETTO:-0800
TZNAME:PST
DTSTART:20211107T090000
END:STANDARD
BEGIN:DAYLIGHT
TZOFFSETFROM:-0800
TZOFFSETTO:-0700
TZNAME:PDT
DTSTART:20220313T100000
END:DAYLIGHT
BEGIN:STANDARD
TZOFFSETFROM:-0700
TZOFFSETTO:-0800
TZNAME:PST
DTSTART:20221106T090000
END:STANDARD
BEGIN:DAYLIGHT
TZOFFSETFROM:-0800
TZOFFSETTO:-0700
TZNAME:PDT
DTSTART:20230312T100000
END:DAYLIGHT
BEGIN:STANDARD
TZOFFSETFROM:-0700
TZOFFSETTO:-0800
TZNAME:PST
DTSTART:20231105T090000
END:STANDARD
END:VTIMEZONE
BEGIN:VEVENT
DTSTART;VALUE=DATE:20221212
DTEND;VALUE=DATE:20221214
DTSTAMP:20260421T181454
CREATED:20221021T182524Z
LAST-MODIFIED:20221212T172218Z
UID:10000007-1670803200-1670975999@impossiblemetals.com
SUMMARY:10th Annual Asia-Pacific Deep Sea Mining Summit 2022
DESCRIPTION:Download Slides
URL:https://impossiblemetals.com/event/10th-annual-asia-pacific-deep-sea-mining-summit-2022/
LOCATION:Marina Bay Sands\, 10 Bayfront Avenue\, Singapore\, 018956\, Singapore
ATTACH;FMTTYPE=image/png:https://impossiblemetals.com/wp-content/uploads/2022/10/ImpossibleMetals-Events-10th-Annual-Asia-Pacific-Deep-Sea-Mining-Summit-2022.png
END:VEVENT
BEGIN:VEVENT
DTSTART;VALUE=DATE:20221114
DTEND;VALUE=DATE:20221119
DTSTAMP:20260421T181454
CREATED:20221021T181450Z
LAST-MODIFIED:20221114T195004Z
UID:10000006-1668384000-1668815999@impossiblemetals.com
SUMMARY:Benchmark Week 2022
DESCRIPTION:Learn more about our approach to sustainable deep seabed mineral harvesting. \nClick for free downloads below: \nNMC Can Be\nCheaper than LFP \nSustainability at\nImpossible Metals
URL:https://impossiblemetals.com/event/benchmark-week-2022/
LOCATION:Sheraton Universal\, 333 Unversal Hollywood Drive\, Universal City\, CA\, 91608\, United States
ATTACH;FMTTYPE=image/png:https://impossiblemetals.com/wp-content/uploads/2022/10/ImpossibleMetals-Events-Benchmark-Week-2022.png
END:VEVENT
BEGIN:VEVENT
DTSTART;VALUE=DATE:20221026
DTEND;VALUE=DATE:20221028
DTSTAMP:20260421T181454
CREATED:20221021T170631Z
LAST-MODIFIED:20221021T175512Z
UID:10000005-1666742400-1666915199@impossiblemetals.com
SUMMARY:Deep Sea Minerals
DESCRIPTION:
URL:https://impossiblemetals.com/event/deep-sea-minerals/
LOCATION:Hotel Norge by Scandic\, Nedre Ole Bulls Plass 4\, Bergen\, 5012\, Norway
ATTACH;FMTTYPE=image/png:https://impossiblemetals.com/wp-content/uploads/2022/10/ImpossibleMetals-Events-Deep-Sea-Minerals.png
ORGANIZER;CN="GEONOVA":MAILTO:ingvild@geopublishing.no
END:VEVENT
BEGIN:VEVENT
DTSTART;VALUE=DATE:20221002
DTEND;VALUE=DATE:20221008
DTSTAMP:20260421T181454
CREATED:20220928T104659Z
LAST-MODIFIED:20220928T110107Z
UID:10000002-1664668800-1665187199@impossiblemetals.com
SUMMARY:Underwater Minerals Conference (UMC 2022)
DESCRIPTION:
URL:https://impossiblemetals.com/event/underwater-minerals-conference-umc-2022/
LOCATION:The Vinoy Renaissance\, 501 5th Avenue NE\, St. Petersburg\, FL\, 33701\, United States
ATTACH;FMTTYPE=image/png:https://impossiblemetals.com/wp-content/uploads/2022/09/ImpossibleMetals_UMC.png
END:VEVENT
BEGIN:VEVENT
DTSTART;VALUE=DATE:20220913
DTEND;VALUE=DATE:20220916
DTSTAMP:20260421T181454
CREATED:20220928T105405Z
LAST-MODIFIED:20220928T110107Z
UID:10000003-1663027200-1663286399@impossiblemetals.com
SUMMARY:The Battery Show
DESCRIPTION:
URL:https://impossiblemetals.com/event/the-battery-show/
LOCATION:Suburban Collection Showplace\, 46100 Grand River Ave.\, Novi\, MI\, 48374\, United States
ATTACH;FMTTYPE=image/png:https://impossiblemetals.com/wp-content/uploads/2022/09/ImpossibleMetals_TheBatteryShow22.png
END:VEVENT
BEGIN:VEVENT
DTSTART;VALUE=DATE:20220423
DTEND;VALUE=DATE:20220424
DTSTAMP:20260421T181454
CREATED:20220928T105840Z
LAST-MODIFIED:20220928T110108Z
UID:10000004-1650672000-1650758399@impossiblemetals.com
SUMMARY:Battery Brunch
DESCRIPTION:
URL:https://impossiblemetals.com/event/battery-brunch/
ATTACH;FMTTYPE=image/png:https://impossiblemetals.com/wp-content/uploads/2022/09/ImpossibleMetals_BatteryBrunch.png
END:VEVENT
END:VCALENDAR